BEGIN:VCALENDAR
VERSION:2.0
PRODID:SchoolNow
CALSCALE:GREGORIAN
BEGIN:VEVENT
UID:211cbae0-1f1a-11f1-9d5a-0a58a9feac02
DTSTAMP:20260420T205038Z
SUMMARY:Study Hall-8th Period
URL;VALUE=URI:http://htrstitans.fallhaven.org/high-school/calendar/8915504/
 study-hall-8th-period
DTSTART;VALUE=DATE:20260429
DTEND;VALUE=DATE:20260430
END:VEVENT
END:VCALENDAR
