BEGIN:VCALENDAR
VERSION:2.0
PRODID:SchoolNow
CALSCALE:GREGORIAN
BEGIN:VEVENT
UID:b361b9ca-26de-11f1-a6c3-0a58a9feac02
DTSTAMP:20260420T205037Z
SUMMARY:No School
URL;VALUE=URI:http://htrstitans.fallhaven.org/high-school/calendar/8939560/
 no-school
DTSTART;VALUE=DATE:20260403
DTEND;VALUE=DATE:20260404
END:VEVENT
END:VCALENDAR
