BEGIN:VCALENDAR
VERSION:2.0
PRODID:SchoolNow
CALSCALE:GREGORIAN
BEGIN:VEVENT
UID:b361c12c-26de-11f1-9e39-0a58a9feac02
DTSTAMP:20260420T205037Z
SUMMARY:Senior trip
LOCATION:Kansas City
URL;VALUE=URI:http://htrstitans.fallhaven.org/high-school/calendar/8939562/
 senior-trip
DTSTART:20260416T130000Z
DTEND:20260417T010000Z
END:VEVENT
END:VCALENDAR
