BEGIN:VCALENDAR
VERSION:2.0
PRODID:SchoolNow
CALSCALE:GREGORIAN
BEGIN:VEVENT
UID:b2f04956-2711-11f1-9fd5-0a58a9feac02
DTSTAMP:20260420T205038Z
SUMMARY:Last Day of School
URL;VALUE=URI:http://htrstitans.fallhaven.org/high-school/calendar/8940339/
 last-day-of-school
DTSTART;VALUE=DATE:20260519
DTEND;VALUE=DATE:20260520
END:VEVENT
END:VCALENDAR
