BEGIN:VCALENDAR
VERSION:2.0
PRODID:SchoolNow
CALSCALE:GREGORIAN
BEGIN:VEVENT
UID:acad4898-27aa-11f1-8a29-0a58a9feac02
DTSTAMP:20260420T205037Z
SUMMARY:Art Trip
LOCATION:Prichard Auditorium
URL;VALUE=URI:http://htrstitans.fallhaven.org/high-school/calendar/8942279/
 art-trip
DTSTART:20260415T173000Z
DTEND:20260415T204000Z
END:VEVENT
END:VCALENDAR
