BEGIN:VCALENDAR
VERSION:2.0
PRODID:SchoolNow
CALSCALE:GREGORIAN
BEGIN:VEVENT
UID:acbc4aaa-27aa-11f1-b6ee-0a58a9feac02
DTSTAMP:20260420T205038Z
SUMMARY:Seniors Last Day
URL;VALUE=URI:http://htrstitans.fallhaven.org/high-school/calendar/8942280/
 seniors-last-day
DTSTART;VALUE=DATE:20260501
DTEND;VALUE=DATE:20260502
END:VEVENT
END:VCALENDAR
