BEGIN:VCALENDAR
VERSION:2.0
PRODID:SchoolNow
CALSCALE:GREGORIAN
BEGIN:VEVENT
UID:acbc4f6e-27aa-11f1-b406-0a58a9feac02
DTSTAMP:20260420T205038Z
SUMMARY:Sports Physical
URL;VALUE=URI:http://htrstitans.fallhaven.org/high-school/calendar/8942281/
 sports-physical
DTSTART:20260506T150000Z
DTEND:20260506T190000Z
END:VEVENT
END:VCALENDAR
