BEGIN:VCALENDAR
VERSION:2.0
PRODID:SchoolNow
CALSCALE:GREGORIAN
BEGIN:VEVENT
UID:a994f7d6-27dd-11f1-8ebd-02c4c831f089
DTSTAMP:20260420T205038Z
SUMMARY:Music Fundraiser
LOCATION:Lincoln
URL;VALUE=URI:http://htrstitans.fallhaven.org/high-school/calendar/8943111/
 music-fundraiser
DTSTART;VALUE=DATE:20260425
DTEND;VALUE=DATE:20260426
END:VEVENT
END:VCALENDAR
