BEGIN:VCALENDAR
VERSION:2.0
PRODID:SchoolNow
CALSCALE:GREGORIAN
BEGIN:VEVENT
UID:87bb8722-2a41-11f1-84a8-0ee022fa445b
DTSTAMP:20260420T205038Z
SUMMARY:Study Hall-6th Period
URL;VALUE=URI:http://htrstitans.fallhaven.org/high-school/calendar/8951744/
 study-hall-6th-period
DTSTART;VALUE=DATE:20260501
DTEND;VALUE=DATE:20260502
END:VEVENT
END:VCALENDAR
