BEGIN:VCALENDAR
VERSION:2.0
PRODID:SchoolNow
CALSCALE:GREGORIAN
BEGIN:VEVENT
UID:87bbb670-2a41-11f1-9072-0ee022fa445b
DTSTAMP:20260420T205038Z
SUMMARY:PreK Last Day
URL;VALUE=URI:http://htrstitans.fallhaven.org/high-school/calendar/8951750/
 prek-last-day
DTSTART;VALUE=DATE:20260507
DTEND;VALUE=DATE:20260508
END:VEVENT
END:VCALENDAR
