BEGIN:VCALENDAR
VERSION:2.0
PRODID:SchoolNow
CALSCALE:GREGORIAN
BEGIN:VEVENT
UID:87bbb760-2a41-11f1-9489-0ee022fa445b
DTSTAMP:20260420T205038Z
SUMMARY:Study Hall-2nd Period
URL;VALUE=URI:http://htrstitans.fallhaven.org/high-school/calendar/8951751/
 study-hall-2nd-period
DTSTART;VALUE=DATE:20260507
DTEND;VALUE=DATE:20260508
END:VEVENT
END:VCALENDAR
