BEGIN:VCALENDAR
VERSION:2.0
PRODID:SchoolNow
CALSCALE:GREGORIAN
BEGIN:VEVENT
UID:87bbb9e0-2a41-11f1-8b75-0ee022fa445b
DTSTAMP:20260420T205038Z
SUMMARY:Study Hall-8th Period
URL;VALUE=URI:http://htrstitans.fallhaven.org/high-school/calendar/8951753/
 study-hall-8th-period
DTSTART;VALUE=DATE:20260511
DTEND;VALUE=DATE:20260512
END:VEVENT
END:VCALENDAR
