BEGIN:VCALENDAR
VERSION:2.0
PRODID:SchoolNow
CALSCALE:GREGORIAN
BEGIN:VEVENT
UID:87bbbb02-2a41-11f1-bb77-0ee022fa445b
DTSTAMP:20260420T205038Z
SUMMARY:Study Hall-7th Period
URL;VALUE=URI:http://htrstitans.fallhaven.org/high-school/calendar/8951754/
 study-hall-7th-period
DTSTART;VALUE=DATE:20260512
DTEND;VALUE=DATE:20260513
END:VEVENT
END:VCALENDAR
