BEGIN:VCALENDAR
VERSION:2.0
PRODID:SchoolNow
CALSCALE:GREGORIAN
BEGIN:VEVENT
UID:87bbbd5a-2a41-11f1-b1a3-0ee022fa445b
DTSTAMP:20260420T205038Z
SUMMARY:Study Hall-5th Period
URL;VALUE=URI:http://htrstitans.fallhaven.org/high-school/calendar/8951756/
 study-hall-5th-period
DTSTART;VALUE=DATE:20260514
DTEND;VALUE=DATE:20260515
END:VEVENT
END:VCALENDAR
