BEGIN:VCALENDAR
VERSION:2.0
PRODID:SchoolNow
CALSCALE:GREGORIAN
BEGIN:VEVENT
UID:87bbbe7c-2a41-11f1-9097-0ee022fa445b
DTSTAMP:20260420T205038Z
SUMMARY:Study Hall-4th Period
URL;VALUE=URI:http://htrstitans.fallhaven.org/high-school/calendar/8951757/
 study-hall-4th-period
DTSTART;VALUE=DATE:20260515
DTEND;VALUE=DATE:20260516
END:VEVENT
END:VCALENDAR
