BEGIN:VCALENDAR
VERSION:2.0
PRODID:SchoolNow
CALSCALE:GREGORIAN
BEGIN:VEVENT
UID:87bbbf94-2a41-11f1-bc71-0ee022fa445b
DTSTAMP:20260420T205038Z
SUMMARY:Study Hall-3rd Period
URL;VALUE=URI:http://htrstitans.fallhaven.org/high-school/calendar/8951758/
 study-hall-3rd-period
DTSTART;VALUE=DATE:20260518
DTEND;VALUE=DATE:20260519
END:VEVENT
END:VCALENDAR
