BEGIN:VCALENDAR
VERSION:2.0
PRODID:SchoolNow
CALSCALE:GREGORIAN
BEGIN:VEVENT
UID:87bbc0ca-2a41-11f1-9554-0ee022fa445b
DTSTAMP:20260420T205038Z
SUMMARY:Study Hall-2nd Period
URL;VALUE=URI:http://htrstitans.fallhaven.org/high-school/calendar/8951759/
 study-hall-2nd-period
DTSTART;VALUE=DATE:20260519
DTEND;VALUE=DATE:20260520
END:VEVENT
END:VCALENDAR
