BEGIN:VCALENDAR
VERSION:2.0
PRODID:SchoolNow
CALSCALE:GREGORIAN
BEGIN:VEVENT
UID:87bbc1ba-2a41-11f1-b652-0ee022fa445b
DTSTAMP:20260420T205038Z
SUMMARY:Grades Due
URL;VALUE=URI:http://htrstitans.fallhaven.org/high-school/calendar/8951760/
 grades-due
DTSTART;VALUE=DATE:20260520
DTEND;VALUE=DATE:20260521
END:VEVENT
END:VCALENDAR
