BEGIN:VCALENDAR
VERSION:2.0
PRODID:SchoolNow
CALSCALE:GREGORIAN
BEGIN:VEVENT
UID:87bbc2a0-2a41-11f1-8750-0ee022fa445b
DTSTAMP:20260420T205038Z
SUMMARY:Teacher Work Day
URL;VALUE=URI:http://htrstitans.fallhaven.org/high-school/calendar/8951761/
 teacher-work-day
DTSTART;VALUE=DATE:20260520
DTEND;VALUE=DATE:20260521
END:VEVENT
END:VCALENDAR
