BEGIN:VCALENDAR
VERSION:2.0
PRODID:SchoolNow
CALSCALE:GREGORIAN
BEGIN:VEVENT
UID:66dbb0aa-2d0b-11f1-b2c7-0affdba872d5
DTSTAMP:20260420T205037Z
SUMMARY:Career Challenge
LOCATION:Peru State College
URL;VALUE=URI:http://htrstitans.fallhaven.org/high-school/calendar/8960076/
 career-challenge
DTSTART:20260408T130000Z
DTEND:20260408T170000Z
END:VEVENT
END:VCALENDAR
