BEGIN:VCALENDAR
VERSION:2.0
PRODID:SchoolNow
CALSCALE:GREGORIAN
BEGIN:VEVENT
UID:66dbbd20-2d0b-11f1-8263-0affdba872d5
DTSTAMP:20260420T205038Z
SUMMARY:Law Day-5th Grade
LOCATION:Pawnee County Courthouse
URL;VALUE=URI:http://htrstitans.fallhaven.org/high-school/calendar/8960077/
 law-day-5th-grade
DTSTART;VALUE=DATE:20260429
DTEND;VALUE=DATE:20260430
END:VEVENT
END:VCALENDAR
