BEGIN:VCALENDAR
VERSION:2.0
PRODID:SchoolNow
CALSCALE:GREGORIAN
BEGIN:VEVENT
UID:58cb25e0-2e0a-11f1-813f-0a58a9feac02
DTSTAMP:20260420T205038Z
SUMMARY:3rd. grade-Colonial Acres
LOCATION:Humboldt
URL;VALUE=URI:http://htrstitans.fallhaven.org/high-school/calendar/8963488/
 3rd-grade-colonial-acres
DTSTART:20260429T183000Z
DTEND:20260429T193000Z
END:VEVENT
END:VCALENDAR
