BEGIN:VCALENDAR
VERSION:2.0
PRODID:SchoolNow
CALSCALE:GREGORIAN
BEGIN:VEVENT
UID:51e48a2a-2ea3-11f1-86f5-0a58a9feac02
DTSTAMP:20260420T205037Z
SUMMARY:softball practice
LOCATION:HTRS - Old Gym
URL;VALUE=URI:http://htrstitans.fallhaven.org/high-school/calendar/8965577/
 softball-practice
DTSTART:20260420T223000Z
DTEND:20260421T000000Z
END:VEVENT
END:VCALENDAR
