BEGIN:VCALENDAR
VERSION:2.0
PRODID:SchoolNow
CALSCALE:GREGORIAN
BEGIN:VEVENT
UID:51e48d68-2ea3-11f1-97a3-0a58a9feac02
DTSTAMP:20260420T205038Z
SUMMARY:softball practice
LOCATION:HTRS - Old Gym
URL;VALUE=URI:http://htrstitans.fallhaven.org/high-school/calendar/8965578/
 softball-practice
DTSTART:20260427T223000Z
DTEND:20260428T000000Z
END:VEVENT
END:VCALENDAR
