BEGIN:VCALENDAR
VERSION:2.0
PRODID:SchoolNow
CALSCALE:GREGORIAN
BEGIN:VEVENT
UID:095d075c-3437-11f1-bd50-0e1dad4e4cb3
DTSTAMP:20260420T205037Z
SUMMARY:Future Educators Academy
LOCATION:Peru State College
URL;VALUE=URI:http://htrstitans.fallhaven.org/high-school/calendar/8981841/
 future-educators-academy
DTSTART:20260422T131500Z
DTEND:20260422T191500Z
END:VEVENT
END:VCALENDAR
