BEGIN:VCALENDAR
VERSION:2.0
PRODID:SchoolNow
CALSCALE:GREGORIAN
BEGIN:VEVENT
UID:d100897e-3832-11f1-8d9e-0a58a9feac02
DTSTAMP:20260420T205037Z
SUMMARY:Golden Sower Day
URL;VALUE=URI:http://htrstitans.fallhaven.org/high-school/calendar/8993376/
 golden-sower-day
DTSTART;VALUE=DATE:20260422
DTEND;VALUE=DATE:20260423
END:VEVENT
END:VCALENDAR
