BEGIN:VCALENDAR
VERSION:2.0
PRODID:SchoolNow
CALSCALE:GREGORIAN
BEGIN:VEVENT
UID:d1008d52-3832-11f1-970b-0a58a9feac02
DTSTAMP:20260420T205038Z
SUMMARY:Arbor Day Program
LOCATION:Humboldt Lake Park
URL;VALUE=URI:http://htrstitans.fallhaven.org/high-school/calendar/8993377/
 arbor-day-program
DTSTART;VALUE=DATE:20260423
DTEND;VALUE=DATE:20260424
END:VEVENT
END:VCALENDAR
