BEGIN:VCALENDAR
VERSION:2.0
PRODID:SchoolNow
CALSCALE:GREGORIAN
BEGIN:VEVENT
UID:d10f7b82-3832-11f1-b2a2-0a58a9feac02
DTSTAMP:20260420T205038Z
SUMMARY:4th Grade Field Trip
LOCATION:Lincoln
URL;VALUE=URI:http://htrstitans.fallhaven.org/high-school/calendar/8993378/
 4th-grade-field-trip
DTSTART;VALUE=DATE:20260430
DTEND;VALUE=DATE:20260501
END:VEVENT
END:VCALENDAR
