BEGIN:VCALENDAR
VERSION:2.0
PRODID:SchoolNow
CALSCALE:GREGORIAN
BEGIN:VEVENT
UID:c8c397ac-38fe-11f1-87dd-023eb73d6f21
DTSTAMP:20260420T205038Z
SUMMARY:Summer STEAM Program
LOCATION:Power Field
URL;VALUE=URI:http://htrstitans.fallhaven.org/high-school/calendar/8995969/
 summer-steam-program
DTSTART:20260424T203000Z
DTEND:20260424T220000Z
END:VEVENT
END:VCALENDAR
