BEGIN:VCALENDAR
VERSION:2.0
PRODID:SchoolNow
CALSCALE:GREGORIAN
BEGIN:VEVENT
UID:bf70dbb6-39ca-11f1-8e45-0a58a9feac02
DTSTAMP:20260420T205038Z
SUMMARY:3rd. grade-Colonial Acres
URL;VALUE=URI:http://htrstitans.fallhaven.org/high-school/calendar/8998353/
 3rd-grade-colonial-acres
DTSTART:20260511T144000Z
DTEND:20260511T170000Z
END:VEVENT
END:VCALENDAR
